BEGIN:VCALENDAR
VERSION:2.0
PRODID:-//San Gabriel Pomona Regional Center - ECPv6.15.12.2//NONSGML v1.0//EN
CALSCALE:GREGORIAN
METHOD:PUBLISH
X-WR-CALNAME:San Gabriel Pomona Regional Center
X-ORIGINAL-URL:https://sgprc.org
X-WR-CALDESC:Events for San Gabriel Pomona Regional Center
REFRESH-INTERVAL;VALUE=DURATION:PT1H
X-Robots-Tag:noindex
X-PUBLISHED-TTL:PT1H
BEGIN:VTIMEZONE
TZID:America/Los_Angeles
BEGIN:DAYLIGHT
TZOFFSETFROM:-0800
TZOFFSETTO:-0700
TZNAME:PDT
DTSTART:20250309T100000
END:DAYLIGHT
BEGIN:STANDARD
TZOFFSETFROM:-0700
TZOFFSETTO:-0800
TZNAME:PST
DTSTART:20251102T090000
END:STANDARD
BEGIN:DAYLIGHT
TZOFFSETFROM:-0800
TZOFFSETTO:-0700
TZNAME:PDT
DTSTART:20260308T100000
END:DAYLIGHT
BEGIN:STANDARD
TZOFFSETFROM:-0700
TZOFFSETTO:-0800
TZNAME:PST
DTSTART:20261101T090000
END:STANDARD
BEGIN:DAYLIGHT
TZOFFSETFROM:-0800
TZOFFSETTO:-0700
TZNAME:PDT
DTSTART:20270314T100000
END:DAYLIGHT
BEGIN:STANDARD
TZOFFSETFROM:-0700
TZOFFSETTO:-0800
TZNAME:PST
DTSTART:20271107T090000
END:STANDARD
END:VTIMEZONE
BEGIN:VEVENT
DTSTART;TZID=America/Los_Angeles:20260527T180000
DTEND;TZID=America/Los_Angeles:20260527T190000
DTSTAMP:20260423T142935
CREATED:20251017T234036Z
LAST-MODIFIED:20251017T234036Z
UID:10001041-1779904800-1779908400@sgprc.org
SUMMARY:Strategic Development Committee
DESCRIPTION:This committee is responsible for the recruitment\, screening and selection of candidates for the Board of Directors consistent with laws\, regulations\, and the Bylaws.  The Committee recommends its selections for any vacancy on the Board and Committee appointments. The Committee is also responsible for ongoing Board training and strategic planning. The Committee will propose strategic development and policy action to the full Board of Directors for approval. \nPlease click here to access the materials. \nFor more information\, and to sign up for public input\, please contact Erika Gomez\, Liaison to the Board of Directors\, via email at egomez@sgprc.org or 909-710-8194. \n  \nAll SG/PRC Board and related Committee meetings have been adapted to a video-conference format. \nClick here for the Zoom Link\nMeeting ID: 988 615 875 \nPassword: 667011 \nOne tap mobile \n+16699006833\,\,988615875#\,\,\,\,0#\,\,667011# US (San Jose) \n+13462487799\,\,988615875#\,\,\,\,0#\,\,667011# US (Houston) \nDial by your location \n+1 669 900 6833 US (San Jose) \n+1 346 248 7799 US (Houston) \n+1 253 215 8782 US (Tacoma) \n+1 301 715 8592 US (Germantown) \n+1 312 626 6799 US (Chicago) \n+1 929 436 2866 US (New York)
URL:https://sgprc.org/events_list/strategic-development-committee-8/2026-05-27/
CATEGORIES:Board of Directors,SGPRC Meetings & Events
END:VEVENT
BEGIN:VEVENT
DTSTART;TZID=America/Los_Angeles:20260624T180000
DTEND;TZID=America/Los_Angeles:20260624T190000
DTSTAMP:20260423T142935
CREATED:20251017T234036Z
LAST-MODIFIED:20251017T234036Z
UID:10001042-1782324000-1782327600@sgprc.org
SUMMARY:Strategic Development Committee
DESCRIPTION:This committee is responsible for the recruitment\, screening and selection of candidates for the Board of Directors consistent with laws\, regulations\, and the Bylaws.  The Committee recommends its selections for any vacancy on the Board and Committee appointments. The Committee is also responsible for ongoing Board training and strategic planning. The Committee will propose strategic development and policy action to the full Board of Directors for approval. \nPlease click here to access the materials. \nFor more information\, and to sign up for public input\, please contact Erika Gomez\, Liaison to the Board of Directors\, via email at egomez@sgprc.org or 909-710-8194. \n  \nAll SG/PRC Board and related Committee meetings have been adapted to a video-conference format. \nClick here for the Zoom Link\nMeeting ID: 988 615 875 \nPassword: 667011 \nOne tap mobile \n+16699006833\,\,988615875#\,\,\,\,0#\,\,667011# US (San Jose) \n+13462487799\,\,988615875#\,\,\,\,0#\,\,667011# US (Houston) \nDial by your location \n+1 669 900 6833 US (San Jose) \n+1 346 248 7799 US (Houston) \n+1 253 215 8782 US (Tacoma) \n+1 301 715 8592 US (Germantown) \n+1 312 626 6799 US (Chicago) \n+1 929 436 2866 US (New York)
URL:https://sgprc.org/events_list/strategic-development-committee-8/2026-06-24/
CATEGORIES:Board of Directors,SGPRC Meetings & Events
END:VEVENT
BEGIN:VEVENT
DTSTART;TZID=America/Los_Angeles:20260722T180000
DTEND;TZID=America/Los_Angeles:20260722T190000
DTSTAMP:20260423T142935
CREATED:20251017T234036Z
LAST-MODIFIED:20251017T234036Z
UID:10001043-1784743200-1784746800@sgprc.org
SUMMARY:Strategic Development Committee
DESCRIPTION:This committee is responsible for the recruitment\, screening and selection of candidates for the Board of Directors consistent with laws\, regulations\, and the Bylaws.  The Committee recommends its selections for any vacancy on the Board and Committee appointments. The Committee is also responsible for ongoing Board training and strategic planning. The Committee will propose strategic development and policy action to the full Board of Directors for approval. \nPlease click here to access the materials. \nFor more information\, and to sign up for public input\, please contact Erika Gomez\, Liaison to the Board of Directors\, via email at egomez@sgprc.org or 909-710-8194. \n  \nAll SG/PRC Board and related Committee meetings have been adapted to a video-conference format. \nClick here for the Zoom Link\nMeeting ID: 988 615 875 \nPassword: 667011 \nOne tap mobile \n+16699006833\,\,988615875#\,\,\,\,0#\,\,667011# US (San Jose) \n+13462487799\,\,988615875#\,\,\,\,0#\,\,667011# US (Houston) \nDial by your location \n+1 669 900 6833 US (San Jose) \n+1 346 248 7799 US (Houston) \n+1 253 215 8782 US (Tacoma) \n+1 301 715 8592 US (Germantown) \n+1 312 626 6799 US (Chicago) \n+1 929 436 2866 US (New York)
URL:https://sgprc.org/events_list/strategic-development-committee-8/2026-07-22/
CATEGORIES:Board of Directors,SGPRC Meetings & Events
END:VEVENT
BEGIN:VEVENT
DTSTART;TZID=America/Los_Angeles:20260826T180000
DTEND;TZID=America/Los_Angeles:20260826T190000
DTSTAMP:20260423T142935
CREATED:20251017T234036Z
LAST-MODIFIED:20251017T234036Z
UID:10001044-1787767200-1787770800@sgprc.org
SUMMARY:Strategic Development Committee
DESCRIPTION:This committee is responsible for the recruitment\, screening and selection of candidates for the Board of Directors consistent with laws\, regulations\, and the Bylaws.  The Committee recommends its selections for any vacancy on the Board and Committee appointments. The Committee is also responsible for ongoing Board training and strategic planning. The Committee will propose strategic development and policy action to the full Board of Directors for approval. \nPlease click here to access the materials. \nFor more information\, and to sign up for public input\, please contact Erika Gomez\, Liaison to the Board of Directors\, via email at egomez@sgprc.org or 909-710-8194. \n  \nAll SG/PRC Board and related Committee meetings have been adapted to a video-conference format. \nClick here for the Zoom Link\nMeeting ID: 988 615 875 \nPassword: 667011 \nOne tap mobile \n+16699006833\,\,988615875#\,\,\,\,0#\,\,667011# US (San Jose) \n+13462487799\,\,988615875#\,\,\,\,0#\,\,667011# US (Houston) \nDial by your location \n+1 669 900 6833 US (San Jose) \n+1 346 248 7799 US (Houston) \n+1 253 215 8782 US (Tacoma) \n+1 301 715 8592 US (Germantown) \n+1 312 626 6799 US (Chicago) \n+1 929 436 2866 US (New York)
URL:https://sgprc.org/events_list/strategic-development-committee-8/2026-08-26/
CATEGORIES:Board of Directors,SGPRC Meetings & Events
END:VEVENT
BEGIN:VEVENT
DTSTART;TZID=America/Los_Angeles:20260923T180000
DTEND;TZID=America/Los_Angeles:20260923T190000
DTSTAMP:20260423T142935
CREATED:20251017T234036Z
LAST-MODIFIED:20251017T234036Z
UID:10001045-1790186400-1790190000@sgprc.org
SUMMARY:Strategic Development Committee
DESCRIPTION:This committee is responsible for the recruitment\, screening and selection of candidates for the Board of Directors consistent with laws\, regulations\, and the Bylaws.  The Committee recommends its selections for any vacancy on the Board and Committee appointments. The Committee is also responsible for ongoing Board training and strategic planning. The Committee will propose strategic development and policy action to the full Board of Directors for approval. \nPlease click here to access the materials. \nFor more information\, and to sign up for public input\, please contact Erika Gomez\, Liaison to the Board of Directors\, via email at egomez@sgprc.org or 909-710-8194. \n  \nAll SG/PRC Board and related Committee meetings have been adapted to a video-conference format. \nClick here for the Zoom Link\nMeeting ID: 988 615 875 \nPassword: 667011 \nOne tap mobile \n+16699006833\,\,988615875#\,\,\,\,0#\,\,667011# US (San Jose) \n+13462487799\,\,988615875#\,\,\,\,0#\,\,667011# US (Houston) \nDial by your location \n+1 669 900 6833 US (San Jose) \n+1 346 248 7799 US (Houston) \n+1 253 215 8782 US (Tacoma) \n+1 301 715 8592 US (Germantown) \n+1 312 626 6799 US (Chicago) \n+1 929 436 2866 US (New York)
URL:https://sgprc.org/events_list/strategic-development-committee-8/2026-09-23/
CATEGORIES:Board of Directors,SGPRC Meetings & Events
END:VEVENT
END:VCALENDAR