BEGIN:VCALENDAR
VERSION:2.0
PRODID:-//San Gabriel Pomona Regional Center - ECPv6.15.12.2//NONSGML v1.0//EN
CALSCALE:GREGORIAN
METHOD:PUBLISH
X-WR-CALNAME:San Gabriel Pomona Regional Center
X-ORIGINAL-URL:https://sgprc.org
X-WR-CALDESC:Events for San Gabriel Pomona Regional Center
REFRESH-INTERVAL;VALUE=DURATION:PT1H
X-Robots-Tag:noindex
X-PUBLISHED-TTL:PT1H
BEGIN:VTIMEZONE
TZID:America/Los_Angeles
BEGIN:DAYLIGHT
TZOFFSETFROM:-0800
TZOFFSETTO:-0700
TZNAME:PDT
DTSTART:20250309T100000
END:DAYLIGHT
BEGIN:STANDARD
TZOFFSETFROM:-0700
TZOFFSETTO:-0800
TZNAME:PST
DTSTART:20251102T090000
END:STANDARD
BEGIN:DAYLIGHT
TZOFFSETFROM:-0800
TZOFFSETTO:-0700
TZNAME:PDT
DTSTART:20260308T100000
END:DAYLIGHT
BEGIN:STANDARD
TZOFFSETFROM:-0700
TZOFFSETTO:-0800
TZNAME:PST
DTSTART:20261101T090000
END:STANDARD
BEGIN:DAYLIGHT
TZOFFSETFROM:-0800
TZOFFSETTO:-0700
TZNAME:PDT
DTSTART:20270314T100000
END:DAYLIGHT
BEGIN:STANDARD
TZOFFSETFROM:-0700
TZOFFSETTO:-0800
TZNAME:PST
DTSTART:20271107T090000
END:STANDARD
END:VTIMEZONE
BEGIN:VEVENT
DTSTART;TZID=America/Los_Angeles:20260527T191500
DTEND;TZID=America/Los_Angeles:20260527T203000
DTSTAMP:20260423T191240
CREATED:20251018T002537Z
LAST-MODIFIED:20251018T002758Z
UID:10001099-1779909300-1779913800@sgprc.org
SUMMARY:Board of Directors
DESCRIPTION:Each regional center is governed by a Board of Directors made up of volunteers from the community. The Board of Directors sets policy and direction for the regional center. \nPlease click here to access the materials. \nFor more information\, and to sign up for public input\, please contact Erika Gomez\, Liaison to the Board of Directors\, via email at egomez@sgprc.org or 909-710-8194. \n  \nAll SG/PRC Board and related Committee meetings have been adapted to video-conference format. \nClick here for the Zoom Link \nMeeting ID: 234 566 141 \nPassword: 916227 \n  \nOne tap mobile \n+16699006833\,\,234566141#\,\,\,\,0#\,\,916227# US (San Jose) \n+13462487799\,\,234566141#\,\,\,\,0#\,\,916227# US (Houston) \nDial by your location \n+1 669 900 6833 US (San Jose) \n+1 346 248 7799 US (Houston) \n+1 253 215 8782 US (Tacoma) \n+1 312 626 6799 US (Chicago) \n+1 929 436 2866 US (New York) \n+1 301 715 8592 US (Germantown)
URL:https://sgprc.org/events_list/board-of-directors/2026-05-27/
END:VEVENT
BEGIN:VEVENT
DTSTART;TZID=America/Los_Angeles:20260624T191500
DTEND;TZID=America/Los_Angeles:20260624T203000
DTSTAMP:20260423T191240
CREATED:20251018T002537Z
LAST-MODIFIED:20251018T002758Z
UID:10001100-1782328500-1782333000@sgprc.org
SUMMARY:Board of Directors
DESCRIPTION:Each regional center is governed by a Board of Directors made up of volunteers from the community. The Board of Directors sets policy and direction for the regional center. \nPlease click here to access the materials. \nFor more information\, and to sign up for public input\, please contact Erika Gomez\, Liaison to the Board of Directors\, via email at egomez@sgprc.org or 909-710-8194. \n  \nAll SG/PRC Board and related Committee meetings have been adapted to video-conference format. \nClick here for the Zoom Link \nMeeting ID: 234 566 141 \nPassword: 916227 \n  \nOne tap mobile \n+16699006833\,\,234566141#\,\,\,\,0#\,\,916227# US (San Jose) \n+13462487799\,\,234566141#\,\,\,\,0#\,\,916227# US (Houston) \nDial by your location \n+1 669 900 6833 US (San Jose) \n+1 346 248 7799 US (Houston) \n+1 253 215 8782 US (Tacoma) \n+1 312 626 6799 US (Chicago) \n+1 929 436 2866 US (New York) \n+1 301 715 8592 US (Germantown)
URL:https://sgprc.org/events_list/board-of-directors/2026-06-24/
END:VEVENT
BEGIN:VEVENT
DTSTART;TZID=America/Los_Angeles:20260722T191500
DTEND;TZID=America/Los_Angeles:20260722T203000
DTSTAMP:20260423T191240
CREATED:20251018T002537Z
LAST-MODIFIED:20251018T002758Z
UID:10001101-1784747700-1784752200@sgprc.org
SUMMARY:Board of Directors
DESCRIPTION:Each regional center is governed by a Board of Directors made up of volunteers from the community. The Board of Directors sets policy and direction for the regional center. \nPlease click here to access the materials. \nFor more information\, and to sign up for public input\, please contact Erika Gomez\, Liaison to the Board of Directors\, via email at egomez@sgprc.org or 909-710-8194. \n  \nAll SG/PRC Board and related Committee meetings have been adapted to video-conference format. \nClick here for the Zoom Link \nMeeting ID: 234 566 141 \nPassword: 916227 \n  \nOne tap mobile \n+16699006833\,\,234566141#\,\,\,\,0#\,\,916227# US (San Jose) \n+13462487799\,\,234566141#\,\,\,\,0#\,\,916227# US (Houston) \nDial by your location \n+1 669 900 6833 US (San Jose) \n+1 346 248 7799 US (Houston) \n+1 253 215 8782 US (Tacoma) \n+1 312 626 6799 US (Chicago) \n+1 929 436 2866 US (New York) \n+1 301 715 8592 US (Germantown)
URL:https://sgprc.org/events_list/board-of-directors/2026-07-22/
END:VEVENT
BEGIN:VEVENT
DTSTART;TZID=America/Los_Angeles:20260826T191500
DTEND;TZID=America/Los_Angeles:20260826T203000
DTSTAMP:20260423T191240
CREATED:20251018T002537Z
LAST-MODIFIED:20251018T002758Z
UID:10001102-1787771700-1787776200@sgprc.org
SUMMARY:Board of Directors
DESCRIPTION:Each regional center is governed by a Board of Directors made up of volunteers from the community. The Board of Directors sets policy and direction for the regional center. \nPlease click here to access the materials. \nFor more information\, and to sign up for public input\, please contact Erika Gomez\, Liaison to the Board of Directors\, via email at egomez@sgprc.org or 909-710-8194. \n  \nAll SG/PRC Board and related Committee meetings have been adapted to video-conference format. \nClick here for the Zoom Link \nMeeting ID: 234 566 141 \nPassword: 916227 \n  \nOne tap mobile \n+16699006833\,\,234566141#\,\,\,\,0#\,\,916227# US (San Jose) \n+13462487799\,\,234566141#\,\,\,\,0#\,\,916227# US (Houston) \nDial by your location \n+1 669 900 6833 US (San Jose) \n+1 346 248 7799 US (Houston) \n+1 253 215 8782 US (Tacoma) \n+1 312 626 6799 US (Chicago) \n+1 929 436 2866 US (New York) \n+1 301 715 8592 US (Germantown)
URL:https://sgprc.org/events_list/board-of-directors/2026-08-26/
END:VEVENT
BEGIN:VEVENT
DTSTART;TZID=America/Los_Angeles:20260923T191500
DTEND;TZID=America/Los_Angeles:20260923T203000
DTSTAMP:20260423T191240
CREATED:20251018T002537Z
LAST-MODIFIED:20251018T002758Z
UID:10001103-1790190900-1790195400@sgprc.org
SUMMARY:Board of Directors
DESCRIPTION:Each regional center is governed by a Board of Directors made up of volunteers from the community. The Board of Directors sets policy and direction for the regional center. \nPlease click here to access the materials. \nFor more information\, and to sign up for public input\, please contact Erika Gomez\, Liaison to the Board of Directors\, via email at egomez@sgprc.org or 909-710-8194. \n  \nAll SG/PRC Board and related Committee meetings have been adapted to video-conference format. \nClick here for the Zoom Link \nMeeting ID: 234 566 141 \nPassword: 916227 \n  \nOne tap mobile \n+16699006833\,\,234566141#\,\,\,\,0#\,\,916227# US (San Jose) \n+13462487799\,\,234566141#\,\,\,\,0#\,\,916227# US (Houston) \nDial by your location \n+1 669 900 6833 US (San Jose) \n+1 346 248 7799 US (Houston) \n+1 253 215 8782 US (Tacoma) \n+1 312 626 6799 US (Chicago) \n+1 929 436 2866 US (New York) \n+1 301 715 8592 US (Germantown)
URL:https://sgprc.org/events_list/board-of-directors/2026-09-23/
END:VEVENT
BEGIN:VEVENT
DTSTART;TZID=America/Los_Angeles:20261028T191500
DTEND;TZID=America/Los_Angeles:20261028T203000
DTSTAMP:20260423T191240
CREATED:20251018T002537Z
LAST-MODIFIED:20251018T002758Z
UID:10001104-1793214900-1793219400@sgprc.org
SUMMARY:Board of Directors
DESCRIPTION:Each regional center is governed by a Board of Directors made up of volunteers from the community. The Board of Directors sets policy and direction for the regional center. \nPlease click here to access the materials. \nFor more information\, and to sign up for public input\, please contact Erika Gomez\, Liaison to the Board of Directors\, via email at egomez@sgprc.org or 909-710-8194. \n  \nAll SG/PRC Board and related Committee meetings have been adapted to video-conference format. \nClick here for the Zoom Link \nMeeting ID: 234 566 141 \nPassword: 916227 \n  \nOne tap mobile \n+16699006833\,\,234566141#\,\,\,\,0#\,\,916227# US (San Jose) \n+13462487799\,\,234566141#\,\,\,\,0#\,\,916227# US (Houston) \nDial by your location \n+1 669 900 6833 US (San Jose) \n+1 346 248 7799 US (Houston) \n+1 253 215 8782 US (Tacoma) \n+1 312 626 6799 US (Chicago) \n+1 929 436 2866 US (New York) \n+1 301 715 8592 US (Germantown)
URL:https://sgprc.org/events_list/board-of-directors/2026-10-28/
END:VEVENT
END:VCALENDAR